BEGIN:VCALENDAR
VERSION:2.0
PRODID:-//Sabre//Sabre VObject 4.5.8//EN
CALSCALE:GREGORIAN
BEGIN:VTIMEZONE
TZID:Europe/Zurich
X-LIC-LOCATION:Europe/Zurich
TZURL:http://tzurl.org/zoneinfo/Europe/Zurich
BEGIN:DAYLIGHT
TZOFFSETFROM:+0100
TZOFFSETTO:+0200
TZNAME:CEST
DTSTART:19810329T020000
RRULE:FREQ=YEARLY;BYMONTH=3;BYDAY=-1SU
END:DAYLIGHT
BEGIN:STANDARD
TZOFFSETFROM:+0200
TZOFFSETTO:+0100
TZNAME:CET
DTSTART:19961027T030000
RRULE:FREQ=YEARLY;BYMONTH=10;BYDAY=-1SU
END:STANDARD
END:VTIMEZONE
BEGIN:VEVENT
UID:news289@avuba.unibas.ch
DTSTAMP;TZID=Europe/Zurich:20260317T161820
DTSTART;TZID=Europe/Zurich:20261123T180000
SUMMARY:avuba General Meeting 2026 followed by an apéro
DESCRIPTION:Save the date!\\r\\nDetails coming soon…
X-ALT-DESC:<p>Save the date!</p>\n<p>Details coming soon…</p>
DTEND;TZID=Europe/Zurich:20261123T200000
END:VEVENT
END:VCALENDAR
