BEGIN:VCALENDAR
VERSION:2.0
PRODID:-//Sabre//Sabre VObject 4.5.8//EN
CALSCALE:GREGORIAN
BEGIN:VTIMEZONE
TZID:Europe/Zurich
X-LIC-LOCATION:Europe/Zurich
TZURL:http://tzurl.org/zoneinfo/Europe/Zurich
BEGIN:DAYLIGHT
TZOFFSETFROM:+0100
TZOFFSETTO:+0200
TZNAME:CEST
DTSTART:19810329T020000
RRULE:FREQ=YEARLY;BYMONTH=3;BYDAY=-1SU
END:DAYLIGHT
BEGIN:STANDARD
TZOFFSETFROM:+0200
TZOFFSETTO:+0100
TZNAME:CET
DTSTART:19961027T030000
RRULE:FREQ=YEARLY;BYMONTH=10;BYDAY=-1SU
END:STANDARD
END:VTIMEZONE
BEGIN:VEVENT
UID:news301@avuba.unibas.ch
DTSTAMP;TZID=Europe/Zurich:20260420T091027
DTSTART;VALUE=DATE:20260421
SUMMARY:Sexual Harassment Day 2026
DESCRIPTION:Kostenloste Anlaufstellen für Studierende und Assistierende de
 r Universität Basel: \\r\\nPersönliche Integrität [https://www.unibas.
 ch/de/Universitaet/Administration-Services/Vizerektorat-People-And-Culture
 /Organisational-Culture/Personal-Integrity.html]: Vertrauliche und persön
 liche Kontakt-\, Beratungs- und Unterstützungsstelle für Universitätsan
 gehörige\, deren persönliche Integrität verletzt wurde oder die in irge
 ndeiner Weise mit einer Verletzung in Berührung gekommen sind\;Psychologi
 sche Beratung [https://studienberatung.unibas.ch/de/beratung/psychologisch
 e-beratung/]: Unabhängige und vertrauliche Beratung bei persönlichen ode
 r psychologischen Problemen\;Kostenlose Rechtsberatung [https://avuba.unib
 as.ch/de/services/kostenlose-rechtsberatung-1-1/]: Hast Du ein rechtliches
  Problem? Dann wende Dich an die kostenlose Rechtsberatung der skuba\;avub
 a-Beratung [https://avuba.unibas.ch/de/services/kostenlose-rechtsberatung-
 1/]: Die avuba Geschäftsführerinnen sowie die avuba Co-Präsidenten\, st
 ehen für individuelle vertrauliche Gespräche gerne zur Verfügung\;Night
 line Basel – Dein offenes Ohr [https://nightline-basel.ch/]: Sie bietet 
 einen vertraulichen Zuhör- und Informationsdienst für Studierende von St
 udierenden\;Opferhilfe beider Basel: Beratungsdienste für Opfer.\\r\\nBuc
 h einen Termin\, falls Du am 21. April mit Patricia (langjährige avuba Co
 -Geschäftsführerin) sprechen möchtest:-> Select a Date & Time - Calendl
 y [https://calendly.com/sexualharassment-day/15?back=1&month=2026-04] (fir
 st come\, first served)\\r\\nWir von der avuba und der skuba können keine
  professionelle psychologische Beratung oder Betreuung anbieten. In akuten
  psychologischen Krisenmomenten empfehlen wir daher\, auf professionelle H
 ilfe zurückzugreifen (hier).
X-ALT-DESC:<p><strong>Kostenloste Anlaufstellen für Studierende und Assist
 ierende der Universität Basel:&nbsp\;</strong></p>\n<ul><li><a href="http
 s://www.unibas.ch/de/Universitaet/Administration-Services/Vizerektorat-Peo
 ple-And-Culture/Organisational-Culture/Personal-Integrity.html" title="htt
 ps://www.unibas.ch/de/Universitaet/Administration-Services/Vizerektorat-Pe
 ople-And-Culture/Organisational-Culture/Personal-Integrity.html" target="_
 blank">Persönliche Integrität</a>: Vertrauliche und persönliche Kontakt
 -\, Beratungs- und Unterstützungsstelle für Universitätsangehörige\, d
 eren persönliche Integrität verletzt wurde oder die in irgendeiner Weise
  mit einer Verletzung in Berührung gekommen sind\;</li><li><a href="https
 ://studienberatung.unibas.ch/de/beratung/psychologische-beratung/" title="
 https://studienberatung.unibas.ch/de/beratung/psychologische-beratung/" ta
 rget="_blank">Psychologische Beratung</a>: Unabhängige und vertrauliche B
 eratung bei persönlichen oder psychologischen Problemen\;</li><li><a href
 ="https://avuba.unibas.ch/de/services/kostenlose-rechtsberatung-1-1/" titl
 e="https://avuba.unibas.ch/de/services/kostenlose-rechtsberatung-1-1/" tar
 get="_blank">Kostenlose Rechtsberatung</a>: Hast Du ein rechtliches Proble
 m? Dann wende Dich an die kostenlose Rechtsberatung der skuba\;</li><li><a
  href="https://avuba.unibas.ch/de/services/kostenlose-rechtsberatung-1/" t
 itle="https://avuba.unibas.ch/de/services/kostenlose-rechtsberatung-1/" ta
 rget="_blank">avuba-Beratung</a>: Die avuba Geschäftsführerinnen sowie d
 ie avuba Co-Präsidenten\, stehen für individuelle vertrauliche Gespräch
 e gerne zur Verfügung\;</li><li><a href="https://nightline-basel.ch/">Nig
 htline Basel – Dein offenes Ohr</a><span>: Sie bietet einen vertrauliche
 n Zuhör- und Informationsdienst für Studierende von Studierenden\;</span
 ></li><li><a href="https://opferhilfe-beiderbasel.ch/angebot/" title="http
 s://opferhilfe-beiderbasel.ch/angebot/" target="_blank"><span>Opferhilfe b
 eider Basel</span></a><span>: Beratungsdienste für Opfer.</span></li></ul
 >\n<p>Buch einen Termin\, falls Du am 21. April mit Patricia (langjährige
  avuba Co-Geschäftsführerin) sprechen möchtest:<br />-&gt\; <a href="ht
 tps://calendly.com/sexualharassment-day/15?back=1&amp\;month=2026-04">Sele
 ct a Date &amp\; Time - Calendly</a> (first come\, first served)</p>\n<p><
 strong>Wir von der avuba und der skuba können keine professionelle psycho
 logische Beratung oder Betreuung anbieten. In akuten psychologischen Krise
 nmomenten empfehlen wir daher\, auf professionelle Hilfe zurückzugreifen 
 (</strong><a href="https://www.unibas.ch/de/Notfall-und-Beratung.html" tar
 get="_blank"><strong>hier</strong></a><strong>).</strong></p>
END:VEVENT
END:VCALENDAR
