BEGIN:VCALENDAR
VERSION:2.0
PRODID:-//Sabre//Sabre VObject 4.5.8//EN
CALSCALE:GREGORIAN
BEGIN:VTIMEZONE
TZID:Europe/Zurich
X-LIC-LOCATION:Europe/Zurich
TZURL:http://tzurl.org/zoneinfo/Europe/Zurich
BEGIN:DAYLIGHT
TZOFFSETFROM:+0100
TZOFFSETTO:+0200
TZNAME:CEST
DTSTART:19810329T020000
RRULE:FREQ=YEARLY;BYMONTH=3;BYDAY=-1SU
END:DAYLIGHT
BEGIN:STANDARD
TZOFFSETFROM:+0200
TZOFFSETTO:+0100
TZNAME:CET
DTSTART:19961027T030000
RRULE:FREQ=YEARLY;BYMONTH=10;BYDAY=-1SU
END:STANDARD
END:VTIMEZONE
BEGIN:VEVENT
UID:news297@avuba.unibas.ch
DTSTAMP;TZID=Europe/Zurich:20260410T145123
DTSTART;TZID=Europe/Zurich:20260518T093000
SUMMARY:1/2 Day avuba Writing Retreat
DESCRIPTION:Program\\r\\n09:30 - 11:00 Writing11:00 - 11:30 Coffee break at
  Lernoullianum11:30 - 13:00 Writing\\r\\nPlease register here [https://for
 ms.gle/vbtQidnPE87nGSYr9] 
X-ALT-DESC:<p><strong>Program</strong></p>\n<ul><li>09:30 - 11:00 Writing</
 li><li>11:00 - 11:30 Coffee break at Lernoullianum</li><li>11:30 - 13:00 W
 riting</li></ul>\n<p>Please register <a href="https://forms.gle/vbtQidnPE8
 7nGSYr9">here</a>&nbsp\;</p>
DTEND;TZID=Europe/Zurich:20260518T130000
END:VEVENT
END:VCALENDAR
