BEGIN:VCALENDAR
VERSION:2.0
PRODID:-//Sabre//Sabre VObject 4.5.8//EN
CALSCALE:GREGORIAN
BEGIN:VTIMEZONE
TZID:Europe/Zurich
X-LIC-LOCATION:Europe/Zurich
TZURL:http://tzurl.org/zoneinfo/Europe/Zurich
BEGIN:DAYLIGHT
TZOFFSETFROM:+0100
TZOFFSETTO:+0200
TZNAME:CEST
DTSTART:19810329T020000
RRULE:FREQ=YEARLY;BYMONTH=3;BYDAY=-1SU
END:DAYLIGHT
BEGIN:STANDARD
TZOFFSETFROM:+0200
TZOFFSETTO:+0100
TZNAME:CET
DTSTART:19961027T030000
RRULE:FREQ=YEARLY;BYMONTH=10;BYDAY=-1SU
END:STANDARD
END:VTIMEZONE
BEGIN:VEVENT
UID:news299@avuba.unibas.ch
DTSTAMP;TZID=Europe/Zurich:20260417T104028
DTSTART;TZID=Europe/Zurich:20260427T121500
SUMMARY:Lunchtime Meeting: Immigration Rules for Third-Country Nationals
DESCRIPTION:Nearing the end of one’s working contract is always stressful
 \, let alone when you are a third-country national whose residence permit 
 was tied to your employment. \\r\\nJoin us for this hour with representat
 ives from the Migration Office Basel-Stadt and the Office for Economic Aff
 airs and Labour. They will address questions regarding immigration law\, y
 our rights and responsibilities\, and the options you do (and do not) have
 . They will shed light on complex regulations to help you make informed de
 cisions about your next steps.\\r\\nRepresentatives: Mario Balsiger and Ol
 iver Meury (Migration Office Basel-Stadt)\, Corinne Bieler-Matter (Office 
 for Economic Affairs and Labour)\\r\\nThe talk starts at 12:30\, sandwiche
 s are available from 12:15. \\r\\nPlease register here [https://forms.gle
 /Jr4DzMtwqk8Qo6og9]
X-ALT-DESC:<p>Nearing the end of one’s working contract is always stressf
 ul\, let alone when you are a third-country national whose residence permi
 t was tied to your employment.&nbsp\;</p>\n<p>Join us for this hour with r
 epresentatives from the Migration Office Basel-Stadt and the Office for Ec
 onomic Affairs and Labour. They will address questions regarding immigrati
 on law\, your rights and responsibilities\, and the options you do (and do
  not) have. They will shed light on complex regulations to help you make i
 nformed decisions about your next steps.</p>\n<p>Representatives: Mario Ba
 lsiger and Oliver Meury (Migration Office Basel-Stadt)\, Corinne Bieler-Ma
 tter (Office for Economic Affairs and Labour)</p>\n<p>The talk starts at 1
 2:30\, sandwiches are available from 12:15.&nbsp\;</p>\n<p>Please register
  <a href="https://forms.gle/Jr4DzMtwqk8Qo6og9" target="_blank">here</a></p
 >
DTEND;TZID=Europe/Zurich:20260427T133000
END:VEVENT
END:VCALENDAR
