BEGIN:VCALENDAR
VERSION:2.0
PRODID:-//Sabre//Sabre VObject 4.5.8//EN
CALSCALE:GREGORIAN
BEGIN:VTIMEZONE
TZID:Europe/Zurich
X-LIC-LOCATION:Europe/Zurich
TZURL:http://tzurl.org/zoneinfo/Europe/Zurich
BEGIN:DAYLIGHT
TZOFFSETFROM:+0100
TZOFFSETTO:+0200
TZNAME:CEST
DTSTART:19810329T020000
RRULE:FREQ=YEARLY;BYMONTH=3;BYDAY=-1SU
END:DAYLIGHT
BEGIN:STANDARD
TZOFFSETFROM:+0200
TZOFFSETTO:+0100
TZNAME:CET
DTSTART:19961027T030000
RRULE:FREQ=YEARLY;BYMONTH=10;BYDAY=-1SU
END:STANDARD
END:VTIMEZONE
BEGIN:VEVENT
UID:news303@avuba.unibas.ch
DTSTAMP;TZID=Europe/Zurich:20260420T105758
DTSTART;TZID=Europe/Zurich:20260507T123000
SUMMARY:Wellness Cafe @Cafeteria of the Main University Library
DESCRIPTION:Fancy a coffee? Your mental wellbeing needs a break with peers?
  Join us at the Wellness Café!\\r\\nEvery first Thursday of a month\, be
 tween 12:30 and 14:00\, the Wellness Café\, organized by the COMPASS Mind
  association and supported by avuba & skuba\, will open its doors in the c
 afeteria of the main library of the University of Basel (located on the to
 p floor).\\r\\nWhether you see yourself as neurodiverse and struggle with 
 it\, whether you feel overwhelmed and stressed by the pressure to perform\
 , whether you are lonely\, new to the university or just curious… absolu
 tely everyone is welcome to join us for coffee & tea after lunch!\\r\\nWe 
 will meet for a completely informal get-together. There is no guide\, no s
 peaker nor a pre-determined topic – it’s just an opportunity to chat f
 reely among peers in a nice space and enjoy coffee & cookies.\\r\\nWe are 
 a group of academic students and staff who aim to promote mental health an
 d raise awareness of neurodiversity among scholars. For more information p
 lease click here [https://compass-mind.ch/meeting-steffie-introducing-the-
 wellness-cafe/] or contact Stephanie Gehlen at stephanie.gehlen [at] uniba
 s.ch.
X-ALT-DESC:<p><strong>Fancy a coffee? Your mental wellbeing needs a break w
 ith peers? Join us at the&nbsp\;Wellness Café!</strong></p>\n<p>Every fir
 st Thursday of a month\, between 12:30 and 14:00\, the Wellness Café\, or
 ganized by the COMPASS Mind association and supported by avuba &amp\; skub
 a\, will open its doors in the cafeteria of the main library of the Univer
 sity of Basel (located on the top floor).</p>\n<p>Whether you see yourself
  as neurodiverse and struggle with it\, whether you feel overwhelmed and s
 tressed by the pressure to perform\, whether you are lonely\, new to the u
 niversity or just curious… absolutely everyone is welcome to join us for
  coffee &amp\; tea after lunch!</p>\n<p>We will meet for a completely info
 rmal get-together. There is no guide\, no speaker nor a pre-determined top
 ic – it’s just an opportunity to chat freely among peers in a nice spa
 ce and enjoy coffee &amp\; cookies.</p>\n<p>We are a group of academic stu
 dents and staff who aim to promote mental health and raise awareness of ne
 urodiversity among scholars. For more information please click <a href="ht
 tps://compass-mind.ch/meeting-steffie-introducing-the-wellness-cafe/">here
 </a> or contact Stephanie Gehlen at stephanie.gehlen [at] unibas.ch.</p>
DTEND;TZID=Europe/Zurich:20260507T140000
END:VEVENT
END:VCALENDAR
